BEGIN:VCALENDAR
VERSION:2.0
PRODID:-//eventon.com NONSGML v1.0//EN
CALSCALE:GREGORIAN
METHOD:PUBLISH
BEGIN:VEVENT
UID:69ed13b634057
DTSTAMP:20260425T191918Z
DTSTART:20200410T120000Z
DTEND:20200410T215000Z
LOCATION:Dobbertiner Klosterkirche Am Kloster\,  19399 Dobbertin
SUMMARY:Sehet\,  welch ein Mensch!
DESCRIPTION:Gottesdienst am Karfreitag ————————————
 —— Es lädt ein: Die Evangelisch-Lutherische Kirchengemeinde Goldberg-D
 obbertin\nhttps://kloster-dobbertin.de/events/sehet-welch-ein-mensch/
URL:https://kloster-dobbertin.de/events/sehet-welch-ein-mensch/
END:VEVENT
END:VCALENDAR