BEGIN:VCALENDAR
VERSION:2.0
PRODID:-//eventon.com NONSGML v1.0//EN
CALSCALE:GREGORIAN
METHOD:PUBLISH
BEGIN:VEVENT
UID:69e53046e9e19
DTSTAMP:20260419T194302Z
DTSTART:20200528T130000Z
DTEND:20200528T180000Z
LOCATION:Kloster Dobbertin Am Kloster\,  19399 Dobbertin
SUMMARY:Caritas und Diakonie
DESCRIPTION:Eine Chance für die gesellschaftliche Relevanz der Kirche? —
 ————————————— Begegnungstag evangelischer und kat
 holischer Theologen und Theologinnen\nhttps://kloster-dobbertin.de/events/c
 aritas-und-diakonie/
URL:https://kloster-dobbertin.de/events/caritas-und-diakonie/
END:VEVENT
END:VCALENDAR