BEGIN:VCALENDAR
VERSION:2.0
PRODID:-//eventon.com NONSGML v1.0//EN
CALSCALE:GREGORIAN
METHOD:PUBLISH
BEGIN:VEVENT
UID:69eafc84ddcf9
DTSTAMP:20260424T051548Z
DTSTART:20200718T173000Z
DTEND:20200718T215000Z
LOCATION:Kloster Dobbertin Am Kloster\,  19399 Dobbertin
SUMMARY:Best of the Best
DESCRIPTION:„North Sea Gas“ aus Edinburgh feiert sein 40. Band-Jubiläu
 m —————————————— „North Sea Gas“ aus Edinbu
 rgh kommt mit schottischem Folk im 800. Jahr des Klosters zum 8. Mal nach D
 obbertin. So viel Jubiläum muss gefeiert werden!\nhttps://kloster-dobberti
 n.de/events/best-of-the-best/
URL:https://kloster-dobbertin.de/events/best-of-the-best/
END:VEVENT
END:VCALENDAR