BEGIN:VCALENDAR
VERSION:2.0
PRODID:-//eventon.com NONSGML v1.0//EN
CALSCALE:GREGORIAN
METHOD:PUBLISH
BEGIN:VEVENT
UID:69e7524d2e93a
DTSTAMP:20260421T103245Z
DTSTART:20201111T101100Z
DTEND:20201111T225000Z
LOCATION:Kloster Dobbertin Am Kloster\,  19399 Dobbertin
SUMMARY:Mit Schwung in die vierte Jahreszeit
DESCRIPTION:Karneval im Kloster\nhttps://kloster-dobbertin.de/events/mit-sc
 hwung-in-die-vierte-jahreszeit/
URL:https://kloster-dobbertin.de/events/mit-schwung-in-die-vierte-jahreszeit/
END:VEVENT
END:VCALENDAR