BEGIN:VCALENDAR
VERSION:2.0
PRODID:-//eventon.com NONSGML v1.0//EN
CALSCALE:GREGORIAN
METHOD:PUBLISH
BEGIN:VEVENT
UID:69e50ad9db734
DTSTAMP:20260419T170321Z
DTSTART:20230106T180000Z
DTEND:20230106T225000Z
LOCATION:Klosterkirche Dobbertin\,  Kreuzgang Am Kloster\,  19399 Dobbertin
SUMMARY:A Red\,  Red Rose – Neujahrskonzert mit Sektempfang
DESCRIPTION:Neujahrskonzert mit Sektempfang mit Werken von Händel\,  Bach 
 &#038; Filmmusik Posaunenchor Goldberg Hartmut Fischer &#8211; Solotrompete
  Christian Wiebeck &#8211; Orgel/Leitung Kartenvorverkauf 15\, - Euro. Kart
 en sind bei Sport Plagemann Goldberg\,  Tourist-Information Goldberg\,  onl
 ine unter www.klostermusiken-dobbertin.de sowie an der Abendkasse erhältli
 ch. Jahresprogramm der „Klostermusiken Dobbertin“ 2022 Über den Verein
  Klostermusiken Dobbertin Mit[..]\nhttps://kloster-dobbertin.de/events/a-re
 d-red-rose-neujahrskonzert-mit-sektempfang/
URL:https://kloster-dobbertin.de/events/a-red-red-rose-neujahrskonzert-mit-sektempfang/
END:VEVENT
END:VCALENDAR