BEGIN:VCALENDAR
VERSION:2.0
PRODID:-//eventon.com NONSGML v1.0//EN
CALSCALE:GREGORIAN
METHOD:PUBLISH
BEGIN:VEVENT
UID:69e875d3dab4a
DTSTAMP:20260422T071635Z
DTSTART:20220812T173000Z
DTEND:20220812T215000Z
LOCATION:Kloster Dobbertin\,  Klosterinnenhof Am Kloster\,  19399 Dobbertin
SUMMARY:Björn Casapietra: Hallelujah – Die schönsten Himmelslieder
DESCRIPTION:Nach langen Monaten ohne sein Publikum und immer noch beflügel
 t von der begeistert aufgenommenen Premiere seiner aktuellen „Hallelujah
 -Tour bringt Björn Casapietra nun eine Fortsetzung seiner schönsten Him
 melslieder. Der Sänger ist seinem Motto über die Jahre stets treu geblieb
 en: Musik muss Herz und Seele berühren sowie Hoffnung und Zuversicht unter
  die[..]\nhttps://kloster-dobbertin.de/events/bjoern-casapietra-hallelujah-
 die-schoensten-himmelslieder/
URL:https://kloster-dobbertin.de/events/bjoern-casapietra-hallelujah-die-schoensten-himmelslieder/
END:VEVENT
END:VCALENDAR