BEGIN:VCALENDAR
VERSION:2.0
PRODID:-//eventon.com NONSGML v1.0//EN
CALSCALE:GREGORIAN
METHOD:PUBLISH
BEGIN:VEVENT
UID:69e73ba141ca8
DTSTAMP:20260421T085601Z
DTSTART:20250511T140000Z
DTEND:20250511T215900Z
LOCATION:Klosterkirche Dobbertin Am Kloster 1
SUMMARY:Geistliche Chormusik
DESCRIPTION:Im Rahmen der Dobbertiner Klostermusiken laden wir herzlich zu 
 einem Chorkonzert am 11.05.2025\,  um 16 Uhr in die Klosterkirche Dobbertin
  ein. Zu Gast ist der Kammerchor „camerata vocale göttingen“ unter der
  Leitung von Tillmann Benfer\,  Kirchenmusikdirektor und ehemaliger Kantor 
 am Dom zu Verden. Der Chor wurde 1984 durch Studentinnen und[..]\nhttps://k
 loster-dobbertin.de/events/geistliche-chormusik/
URL:https://kloster-dobbertin.de/events/geistliche-chormusik/
END:VEVENT
END:VCALENDAR